BEGIN:VCALENDAR
VERSION:2.0
PRODID:-//Tukios.com/
BEGIN:VEVENT
UID:f48cc4b7-982d-4e44-9806-d9cc633fea7a@www.mckownfuneralhome.com
DTSTAMP:20260420T024239Z
DTSTART:20260424T190000Z
DTEND:20260424T200000Z
SUMMARY:Funeral Service
DESCRIPTION:
URL:https://www.mckownfuneralhome.com/obituaries/margo-zywiec
LOCATION:McKown Funeral Home 2922 13th Street  Columbus NE 68601
GEO:41.4295701;-97.3641911
END:VEVENT
END:VCALENDAR