BEGIN:VCALENDAR
VERSION:2.0
PRODID:-//Tukios.com/
BEGIN:VEVENT
UID:3b04a845-2063-407c-8f3e-c8fbcca61fa2@www.mckownfuneralhome.com
DTSTAMP:20260420T024624Z
DTSTART:20260424T170000Z
DTEND:20260424T190000Z
SUMMARY:Visitation
DESCRIPTION:
URL:https://www.mckownfuneralhome.com/obituaries/margo-zywiec
LOCATION:McKown Funeral Home 2922 13th Street  Columbus NE 68601
GEO:41.4295701;-97.3641911
END:VEVENT
END:VCALENDAR