BEGIN:VCALENDAR
VERSION:2.0
PRODID:-//Tukios.com/
BEGIN:VEVENT
UID:f2d10eef-d0c4-4af5-9d98-d157efdfd13e@www.mckownfuneralhome.com
DTSTAMP:20260420T024414Z
DTSTART:20260423T230000Z
DTEND:20260424T000000Z
SUMMARY:Rosary
DESCRIPTION:
URL:https://www.mckownfuneralhome.com/obituaries/garth-vopalensky
LOCATION: 210 S Walnut Street  Shelby NE 68662
GEO:41.194059;-97.4256086
END:VEVENT
END:VCALENDAR