BEGIN:VCALENDAR
VERSION:2.0
PRODID:-//Tukios.com/
BEGIN:VEVENT
UID:50d835e9-f2fc-4d8b-a7ec-dac68b20ae62@www.mckownfuneralhome.com
DTSTAMP:20260420T024240Z
DTSTART:20260424T153000Z
DTEND:20260424T163000Z
SUMMARY:Funeral Service
DESCRIPTION:
URL:https://www.mckownfuneralhome.com/obituaries/garth-vopalensky
LOCATION: 210 S Walnut Street  Shelby NE 68662
GEO:41.194059;-97.4256086
END:VEVENT
END:VCALENDAR