BEGIN:VCALENDAR
VERSION:2.0
PRODID:-//Tukios.com/
BEGIN:VEVENT
UID:aba22d49-c490-482e-bfa1-e6a690c03cd4@www.mckownfuneralhome.com
DTSTAMP:20260420T024522Z
DTSTART:20260423T210000Z
DTEND:20260423T230000Z
SUMMARY:Visitation
DESCRIPTION:
URL:https://www.mckownfuneralhome.com/obituaries/garth-vopalensky
LOCATION: 210 S Walnut Street  Shelby NE 68662
GEO:41.194059;-97.4256086
END:VEVENT
END:VCALENDAR